BEGIN:VCALENDAR
VERSION:2.0
PRODID:-//hacksw/handcal//NONSGML v1.0//EN
BEGIN:VEVENT
SUMMARY:Championnats departementaux Simples 3D - 4D
UID:c15c3c5a-1ece-4410-ae90-96444fc52d5b
DTSTART:20260411T120000Z
DTEND:20260412T170000Z
LOCATION:Localisation   
CATEGORIES:Sportif
STATUS:
URL;VALUE=URI:https://cbd8723.sportsregions.fr/evenements/2026/04/11/championnats-departementaux-simples-3d-4d-2436194
END:VEVENT
END:VCALENDAR
